BEGIN:VCALENDAR
VERSION:2.0
PRODID:-//LGBTQ+ History &amp; Archives of the Desert - ECPv6.15.14//NONSGML v1.0//EN
CALSCALE:GREGORIAN
METHOD:PUBLISH
X-WR-CALNAME:LGBTQ+ History &amp; Archives of the Desert
X-ORIGINAL-URL:https://lgbtqpshistory.org
X-WR-CALDESC:Events for LGBTQ+ History &amp; Archives of the Desert
REFRESH-INTERVAL;VALUE=DURATION:PT1H
X-Robots-Tag:noindex
X-PUBLISHED-TTL:PT1H
BEGIN:VTIMEZONE
TZID:UTC
BEGIN:STANDARD
TZOFFSETFROM:+0000
TZOFFSETTO:+0000
TZNAME:UTC
DTSTART:20200101T000000
END:STANDARD
END:VTIMEZONE
BEGIN:VEVENT
DTSTART;VALUE=DATE:20220325
DTEND;VALUE=DATE:20220326
DTSTAMP:20260421T050904
CREATED:20220913T013914Z
LAST-MODIFIED:20220914T093216Z
UID:463-1648166400-1648252799@lgbtqpshistory.org
SUMMARY:Sharing Our Desert's LGBTQ+ History
DESCRIPTION:We are excited to announce that our exhibition\, Sharing Our Desert’s LGBTQ+ History\, will be shown at the Mary Pickford Theatre is D’Place\, during Cathedral City LGBT Days\, March 25 to 27\, 2022.
URL:https://lgbtqpshistory.org/event/sharing-our-deserts-lgbtq-history/
LOCATION:Mary Pickford D Place\, 68-600 Perez Rd\, Cathedral City\, 92234\, United States
CATEGORIES:LGBTQ Events
ATTACH;FMTTYPE=image/jpeg:https://lgbtqpshistory.org/wp-content/uploads/2022/09/March-Event.jpg
END:VEVENT
BEGIN:VEVENT
DTSTART;VALUE=DATE:20211107
DTEND;VALUE=DATE:20211108
DTSTAMP:20260421T050904
CREATED:20220914T092822Z
LAST-MODIFIED:20220921T082158Z
UID:555-1636243200-1636329599@lgbtqpshistory.org
SUMMARY:Sharing Our Desert's LGBTQ+ History
DESCRIPTION:An Inaugural Exhibition\nA History of the Greater Palm Springs Area That Made It A Welcoming Place For The LGBTQ+ Community \n \n 
URL:https://lgbtqpshistory.org/event/sharing-our-deserts-lgbtq-history-2/
CATEGORIES:LGBTQ Events,LGBTQ Exhibits
ATTACH;FMTTYPE=image/jpeg:https://lgbtqpshistory.org/wp-content/uploads/2022/09/lgbtq-history.jpg
END:VEVENT
END:VCALENDAR